BEGIN:VCALENDAR
VERSION:2.0
PRODID:-//FFaemc Comit&eacute; R&eacute;gional Occitanie - ECPv6.15.20//NONSGML v1.0//EN
CALSCALE:GREGORIAN
METHOD:PUBLISH
X-ORIGINAL-URL:https://ffaemc-occitanie.fr
X-WR-CALDESC:Évènements pour FFaemc Comit&eacute; R&eacute;gional Occitanie
REFRESH-INTERVAL;VALUE=DURATION:PT1H
X-Robots-Tag:noindex
X-PUBLISHED-TTL:PT1H
BEGIN:VTIMEZONE
TZID:UTC
BEGIN:STANDARD
TZOFFSETFROM:+0000
TZOFFSETTO:+0000
TZNAME:UTC
DTSTART:20250101T000000
END:STANDARD
END:VTIMEZONE
BEGIN:VEVENT
DTSTART;TZID=UTC:20260607T100000
DTEND;TZID=UTC:20260607T180000
DTSTAMP:20260421T141854
CREATED:20251104T144654Z
LAST-MODIFIED:20260408T071405Z
UID:3243-1780826400-1780855200@ffaemc-occitanie.fr
SUMMARY:Passage de grade
DESCRIPTION:DIMANCHE 7 JUIN 2026 Renseignements & inscriptions Téléphone : 06 75 03 82 83 Adresse Email : cord@ffaemc-occitanie.fr TOULOUSE (31) à confirmer PASSAGE DE GRADE DUAN – ATT1DUAN 1 – DUAN 2 et ATT1 dans les disciplines AEC – AMCI – AMCX  Plus d’infos…
URL:https://ffaemc-occitanie.fr/evenements/passage-de-grade-2/
ATTACH;FMTTYPE=image/jpeg:https://ffaemc-occitanie.fr/wp-content/uploads/2025/10/IMG_9795-scaled-2.jpg
END:VEVENT
END:VCALENDAR