BEGIN:VCALENDAR
VERSION:2.0
PRODID:-//FFaemc Comit&eacute; R&eacute;gional Occitanie - ECPv6.15.20//NONSGML v1.0//EN
CALSCALE:GREGORIAN
METHOD:PUBLISH
X-WR-CALNAME:FFaemc Comit&eacute; R&eacute;gional Occitanie
X-ORIGINAL-URL:https://ffaemc-occitanie.fr
X-WR-CALDESC:Évènements pour FFaemc Comit&eacute; R&eacute;gional Occitanie
REFRESH-INTERVAL;VALUE=DURATION:PT1H
X-Robots-Tag:noindex
X-PUBLISHED-TTL:PT1H
BEGIN:VTIMEZONE
TZID:UTC
BEGIN:STANDARD
TZOFFSETFROM:+0000
TZOFFSETTO:+0000
TZNAME:UTC
DTSTART:20240101T000000
END:STANDARD
END:VTIMEZONE
BEGIN:VEVENT
DTSTART;TZID=UTC:20251011T000000
DTEND;TZID=UTC:20251011T235959
DTSTAMP:20260423T131258
CREATED:20250307T162743Z
LAST-MODIFIED:20260407T093127Z
UID:2469-1760140800-1760227199@ffaemc-occitanie.fr
SUMMARY:Assemblée Générale Occitanie
DESCRIPTION:11 OCTOBRE 2025 \n\n\n\n\n\n\n\n\n\nTéléphone : ‭06 83 02 97 88‬ \nAdresse Email : ghislaine.millard@sfr.fr \n\n\n\n\n\n\n\n\n\n\nVERGEZE (30) \nGymnase de Vergèze 290 Chemin de Boissières \n\n\n\n\n\n\nASSEMBLEE GENERALE \n\n\n\n\n\n\nOdre du jour :  \n\nCompte rendu moral \ncompte rendu financier\nQuestions diverses\nProjets
URL:https://ffaemc-occitanie.fr/evenements/assemblee-generale-occitanie/
ATTACH;FMTTYPE=image/jpeg:https://ffaemc-occitanie.fr/wp-content/uploads/2022/12/IMG_6890-scaled.jpeg
END:VEVENT
BEGIN:VEVENT
DTSTART;TZID=UTC:20251012T000000
DTEND;TZID=UTC:20251012T235959
DTSTAMP:20260423T131258
CREATED:20250308T205250Z
LAST-MODIFIED:20260407T020937Z
UID:2476-1760227200-1760313599@ffaemc-occitanie.fr
SUMMARY:Les rencontres Occitanes
DESCRIPTION:DIMANCHE 12 OCTOBRE \n\n\n\n\n\n\n\n\n\nRenseignements \nTéléphone : 06 83 02 97 88 \n\n\n\n\n\n\n\n\n\n\nVERGEZE (30) \nGymnase de Vergèze 290 Chemin de Boissières \n\n\n\n\n\n\nRENCONTRES OCCITANES \n\n\n\n\n\n\nVenez découvrir et approfondir les Arts Energétiques et martiaux Chinois : Démonstration et ateliers de pratique : \n\nKung Fu\nTai Chi Chuan\nWushu\nQi Gong\n\nGratuit et ouvert à tous de 10h00 à 17h00 \nRepas tiré du sac \n\n\n\nPlus d’infos…
URL:https://ffaemc-occitanie.fr/evenements/les-rencontres-occitanes/
CATEGORIES:Evènements
ATTACH;FMTTYPE=image/jpeg:https://ffaemc-occitanie.fr/wp-content/uploads/2025/03/IMG_20220403_103400-scaled.jpg
END:VEVENT
END:VCALENDAR