BEGIN:VCALENDAR
VERSION:2.0
PRODID:-//FFaemc Comit&eacute; R&eacute;gional Occitanie - ECPv6.15.20//NONSGML v1.0//EN
CALSCALE:GREGORIAN
METHOD:PUBLISH
X-WR-CALNAME:FFaemc Comit&eacute; R&eacute;gional Occitanie
X-ORIGINAL-URL:https://ffaemc-occitanie.fr
X-WR-CALDESC:Évènements pour FFaemc Comit&eacute; R&eacute;gional Occitanie
REFRESH-INTERVAL;VALUE=DURATION:PT1H
X-Robots-Tag:noindex
X-PUBLISHED-TTL:PT1H
BEGIN:VTIMEZONE
TZID:UTC
BEGIN:STANDARD
TZOFFSETFROM:+0000
TZOFFSETTO:+0000
TZNAME:UTC
DTSTART:20250101T000000
END:STANDARD
END:VTIMEZONE
BEGIN:VEVENT
DTSTART;TZID=UTC:20260116T090000
DTEND;TZID=UTC:20260116T180000
DTSTAMP:20260421T141837
CREATED:20251104T145819Z
LAST-MODIFIED:20260410T064021Z
UID:3258-1768554000-1768586400@ffaemc-occitanie.fr
SUMMARY:Formation CAM – CMB
DESCRIPTION:A PARTIR DU 16 JANVIER 2026 Renseignements & inscriptions Téléphone : 06 75 03 82 83 Adresse Email : formation@ffaemc-occitanie.fr REGION OCCITANIE FORMATIONCAM – CMB `Toute l’équipe du comité régional se mobilise pour renouveler en région Occitanie l’organisation des formation du Certificat d’Assistant Moniteur (CAM) et du Certificat de Moniteur Bénévole (CMB).   Si cette opportunité vous intéresse\, n’hésitez pas à vous faire connaitre au plus tôt auprès du responsable formation régional.  Plus d’infos…
URL:https://ffaemc-occitanie.fr/evenements/formation-cam-cmb/
ATTACH;FMTTYPE=image/jpeg:https://ffaemc-occitanie.fr/wp-content/uploads/2022/12/image-formation.jpg
END:VEVENT
BEGIN:VEVENT
DTSTART;TZID=UTC:20260118T080000
DTEND;TZID=UTC:20260118T180000
DTSTAMP:20260421T141837
CREATED:20251013T083731Z
LAST-MODIFIED:20260410T213202Z
UID:2803-1768723200-1768759200@ffaemc-occitanie.fr
SUMMARY:Sélectif France et coupe enfants interrégion
DESCRIPTION:17 & 18 janvier 2026 \n\n\n\n\n\n\n\n\n\n\n\n\n\nSETE (34) \nComplexe du Lido – 213 Rue du Dauphiné 34200 Sète \n\n\n\n\n\n\nSELECTIF FRANCE ET COUPE ENFANTS INTERREGION \n\n\n\n\n\n\nUn grand week-end Wushu arrive ! \n Sélectif France (samedi) \n Coupe Enfants Wushu & Kung Fu Traditionnel (dimanche) \n Compétiteurs\, jeunes talents et passionnés : on vous attend nombreux ! \n Inscriptions jusqu’au 11 janvier – 23h59 \n\n\n\nPlus d’infos…\nInscription\n\n\n\n\n\n\n\n\n\n\n\n\n\n\n\n\n\n\n\n\n\nAccueil\nDisciplines\nPrésentation\nFormations\nDuans / ATT\nContact\n\n\n\n\n\nAccueil\nDisciplines\nPrésentation\nFormations\nDuans / ATT\nContact\n\n\n\n\n\n\n\ncopyright © 2022 | CROC
URL:https://ffaemc-occitanie.fr/evenements/selectif-regional/
CATEGORIES:Compétition
ATTACH;FMTTYPE=image/png:https://ffaemc-occitanie.fr/wp-content/uploads/2023/12/Sanda.png
END:VEVENT
END:VCALENDAR